BEGIN:VCALENDAR
VERSION:2.0
PRODID:-//Attac Ireland - ECPv4.3.1.1//NONSGML v1.0//EN
CALSCALE:GREGORIAN
METHOD:PUBLISH
X-WR-CALNAME:Attac Ireland
X-ORIGINAL-URL:http://www.attac.ie
X-WR-CALDESC:Events for Attac Ireland
BEGIN:VEVENT
DTSTART;TZID=Europe/Dublin:20151017T130000
DTEND;TZID=Europe/Dublin:20151017T170000
DTSTAMP:20171106T132759
CREATED:20151011T115007Z
LAST-MODIFIED:20151011T125115Z
UID:1107-1445086800-1445101200@www.attac.ie
SUMMARY:People rise up against Finance! STOP TTIP!
DESCRIPTION:Organised by:\n\n\n\n\nÂ ATTAC (Ireland): http://www.attac.ie/\n\n\nSupported by:\n\n\n\n\nDebt and Development Coalition: http://www.debtireland.org/\n\nMarea Granate: http://mareagranate.org/en/2014/05/marea-granate-dublin/\n\nPeople's Movement: http://www.people.ie/\n\nGreek Solidarity Committee in Ireland: https://www.facebook.com/Ireland4Greece\n\n\nEvent called in solidarity with these European peoplesâ€™ initiatives:\n\n\n\n\nNo TTIP Camp\, Brussels 13th - 17th: Oct: https://campnottip.noblogs.org/\n\nEuropean Citizens Assembly on Debt\, 16th Oct.\, Brussels: http://ox15.eu/en/actions\n\n\nInternational Days of Action for Democracy\, Social Justice and Our Public Services - Trade for the Benefit of People:\n\n\n\n\nSTOP TTIP\, CETA\, TPP & TISA: https://www.trade4people.org/\n\nOxi! Basta! Enough! Build Another Europe: www.ox15.eu\n\nEuro Marches to Brussels 1st - 17th Oct: http://euromarchas2015.net/\nIf your organisation would like to co-host\, please get in touch:\n\nhttps://www.facebook.com/AttacIreland\n\n\nPeople rise up against Finance!\n\n\n\n\n 
URL:http://www.attac.ie/event/people-rise-up-against-finance-stop-ttip/
LOCATION: Dame St.\, Dublin 2\, Dublin\, Ireland
ATTACH;FMTTYPE=image/jpeg:http://www.attac.ie/wp-content/uploads/2015/10/Stopttipsucker.jpg
ORGANIZER;CN="Attac%20Ireland":MAILTO:info@attac.ie
END:VEVENT
END:VCALENDAR