BEGIN:VCALENDAR
VERSION:2.0
PRODID:-//Attac Ireland - ECPv4.3.1.1//NONSGML v1.0//EN
CALSCALE:GREGORIAN
METHOD:PUBLISH
X-WR-CALNAME:Attac Ireland
X-ORIGINAL-URL:http://www.attac.ie
X-WR-CALDESC:Events for Attac Ireland
BEGIN:VEVENT
DTSTART;TZID=Europe/Dublin:20151109T193000
DTEND;TZID=Europe/Dublin:20151109T193000
DTSTAMP:20171106T132938
CREATED:20151011T143735Z
LAST-MODIFIED:20151011T145232Z
UID:1121-1447097400-1447097400@www.attac.ie
SUMMARY:International CETA Speaking Tour
DESCRIPTION:International CETA Speaking Tour:  Monday 9th November\, 7.30pm\, Liberty Hall\, Dublin 1.\n\nPatricia King\, General Sectary of the ICTU joins Maude Barlow\, National Chair of the Council of Canadians\, and other international speakers\, to highlight the threat that the EU-Canada ‘free’ trade deal (CETA) poses to our workers’ rights\, democracy\, health & safety standards\, environment and public services.\n\nCETA is the less well-known cousin of TTIP\, the EU-US ‘free’ trade deal currently being drafted. However\, negotiations on the CETA deal are closed; the text is agreed. If adopted\, it would allow companies to sue governments in a private arbitration when laws interfere in their profits. Early next year\, it will be MEPs who decide whether to reject CETA or not. An international movement of trade unions and other civil society organisations is calling for a big ‘NO’ to CETA\, and for the promotion of a democratic\, transparent and worker-friendly European trade agenda instead.\n\nThis meeting on November 9th is an opportunity for trade unionists and all those concerned with democracy\, to learn exactly how CETA will damage our society and how we can all work together to apply pressure on our democratic representatives in the European Parliament to vote NO to CETA.\n\nread more...
URL:http://www.attac.ie/event/international-ceta-speaking-tour/
LOCATION:Dublin1\, Dublin\, 1\, Ireland
ATTACH;FMTTYPE=image/jpeg:http://www.attac.ie/wp-content/uploads/2015/10/CETA-slider.jpg
ORGANIZER;CN="Attac%20Ireland":MAILTO:info@attac.ie
END:VEVENT
END:VCALENDAR